BEGIN:VCALENDAR
VERSION:2.0
PRODID:-//empowercdc.org//NONSGML kigkonsult.se iCalcreator 2.30.10//
CALSCALE:GREGORIAN
METHOD:PUBLISH
UID:fb08c32a-1015-4b37-918b-109e20eae13c
X-WR-CALDESC:EXERCISE\nKIDS RECESS WORKOUT\n@3PM\n
X-WR-RELCALID:fee2bdc1c56f6e72d5cfc44766251fcc
X-WR-TIMEZONE:America/Chicago
BEGIN:VTIMEZONE
TZID:America/Chicago
BEGIN:STANDARD
TZNAME:CST
DTSTART:20251102T020000
TZOFFSETFROM:-0500
TZOFFSETTO:-0600
RDATE:20261101T020000
END:STANDARD
BEGIN:DAYLIGHT
TZNAME:CDT
DTSTART:20260308T020000
TZOFFSETFROM:-0600
TZOFFSETTO:-0500
RDATE:20270314T020000
END:DAYLIGHT
END:VTIMEZONE
BEGIN:VEVENT
UID:0817c851-1863-4c0a-9159-1e1b3418e479
DTSTAMP:20260421T225628Z
DESCRIPTION:EXERCISE\nKIDS RECESS WORKOUT\n@3PM\n
DTSTART;TZID=America/Chicago:20260421T150000
DTEND;TZID=America/Chicago:20260421T160000
LOCATION:1620 Spencer Hwy\, South Houston\, TX 77587 US
SUMMARY:Windsor Gardens: Exercise
END:VEVENT
END:VCALENDAR
