BEGIN:VCALENDAR
VERSION:2.0
PRODID:-//empowercdc.org//NONSGML kigkonsult.se iCalcreator 2.30.10//
CALSCALE:GREGORIAN
METHOD:PUBLISH
UID:a9f6ea94-b8de-4b54-a507-0698929c7028
X-WR-CALDESC:SOCIAL- Peacock-CP\nBINGO\n@1:30PM\n*Registration Required*
X-WR-RELCALID:6f80b265731b98aa9ad42b267769a951
X-WR-TIMEZONE:America/Chicago
BEGIN:VTIMEZONE
TZID:America/Chicago
BEGIN:STANDARD
TZNAME:CST
DTSTART:20251102T020000
TZOFFSETFROM:-0500
TZOFFSETTO:-0600
RDATE:20261101T020000
END:STANDARD
BEGIN:DAYLIGHT
TZNAME:CDT
DTSTART:20260308T020000
TZOFFSETFROM:-0600
TZOFFSETTO:-0500
RDATE:20270314T020000
END:DAYLIGHT
END:VTIMEZONE
BEGIN:VEVENT
UID:267f54ac-fea5-4985-892e-8a8224a67429
DTSTAMP:20260422T001644Z
DESCRIPTION:SOCIAL- Peacock-CP\nBINGO\n@1:30PM\n*Registration Required*
DTSTART;TZID=America/Chicago:20260421T133000
DTEND;TZID=America/Chicago:20260421T150000
LOCATION:325 Flagship Boulevard\, Montgomery\, AL 77316 US
SUMMARY:The Heritage: Bingo Social
END:VEVENT
END:VCALENDAR
