BEGIN:VCALENDAR
VERSION:2.0
PRODID:-//empowercdc.org//NONSGML kigkonsult.se iCalcreator 2.30.10//
CALSCALE:GREGORIAN
METHOD:PUBLISH
UID:5ee1cc6a-e5e6-4a5f-81ce-2276872a8d51
X-WR-CALDESC:SOCIAL- Peacock-CP\nBINGO\n@11:00AM\n*Registration Required*
X-WR-RELCALID:4ba14fcc56f5511451216620e775550f
X-WR-TIMEZONE:America/Chicago
BEGIN:VTIMEZONE
TZID:America/Chicago
BEGIN:STANDARD
TZNAME:CST
DTSTART:20251102T020000
TZOFFSETFROM:-0500
TZOFFSETTO:-0600
RDATE:20261101T020000
END:STANDARD
BEGIN:DAYLIGHT
TZNAME:CDT
DTSTART:20260308T020000
TZOFFSETFROM:-0600
TZOFFSETTO:-0500
RDATE:20270314T020000
END:DAYLIGHT
END:VTIMEZONE
BEGIN:VEVENT
UID:eba56a21-b5db-4d33-abf9-75cef47b7555
DTSTAMP:20260422T001237Z
DESCRIPTION:SOCIAL- Peacock-CP\nBINGO\n@11:00AM\n*Registration Required*
DTSTART;TZID=America/Chicago:20260421T110000
DTEND;TZID=America/Chicago:20260421T120000
LOCATION:219 Flasgship Blvd\, Montgomery\, TX 77316 US
SUMMARY:The Heritage 55+: Bingo Social
END:VEVENT
END:VCALENDAR
