BEGIN:VCALENDAR
VERSION:2.0
PRODID:-//empowercdc.org//NONSGML kigkonsult.se iCalcreator 2.30.10//
CALSCALE:GREGORIAN
METHOD:PUBLISH
UID:7de27957-6841-4be4-988a-bce2158e548a
X-WR-CALDESC:EXERCISE- Empower\nAdaptive Fitness\n@12:00PM
X-WR-RELCALID:88d7d78de2c09ae154602f495ab9262f
X-WR-TIMEZONE:America/Chicago
BEGIN:VTIMEZONE
TZID:America/Chicago
BEGIN:STANDARD
TZNAME:CST
DTSTART:20251102T020000
TZOFFSETFROM:-0500
TZOFFSETTO:-0600
RDATE:20261101T020000
END:STANDARD
BEGIN:DAYLIGHT
TZNAME:CDT
DTSTART:20260308T020000
TZOFFSETFROM:-0600
TZOFFSETTO:-0500
RDATE:20270314T020000
END:DAYLIGHT
END:VTIMEZONE
BEGIN:VEVENT
UID:49dbb9dd-dc10-4c9c-95f0-b2a4610b0154
DTSTAMP:20260421T225628Z
DESCRIPTION:EXERCISE- Empower\nAdaptive Fitness\n@12:00PM
DTSTART;TZID=America/Chicago:20260421T120000
DTEND;TZID=America/Chicago:20260421T130000
LOCATION:1830 Hollyoak Dr\, Houston\, AL 77084 US
SUMMARY:Hollyoak: Exercise
END:VEVENT
END:VCALENDAR
