BEGIN:VCALENDAR
VERSION:2.0
PRODID:-//empowercdc.org//NONSGML kigkonsult.se iCalcreator 2.30.10//
CALSCALE:GREGORIAN
METHOD:PUBLISH
UID:8e74f703-7163-48b1-a60a-ed6ebb7b02c1
X-WR-CALDESC:TX SMP\nSCAM OF THE MONTH\n@10:30AM\n\nSOCIAL\nGAME DAY/ FAMIL
 Y FEUD\n@11AM
X-WR-RELCALID:c45577afc8590c98dddc051d386d9380
X-WR-TIMEZONE:America/Chicago
BEGIN:VTIMEZONE
TZID:America/Chicago
BEGIN:STANDARD
TZNAME:CST
DTSTART:20251102T020000
TZOFFSETFROM:-0500
TZOFFSETTO:-0600
RDATE:20261101T020000
END:STANDARD
BEGIN:DAYLIGHT
TZNAME:CDT
DTSTART:20260308T020000
TZOFFSETFROM:-0600
TZOFFSETTO:-0500
RDATE:20270314T020000
END:DAYLIGHT
END:VTIMEZONE
BEGIN:VEVENT
UID:2c05b821-d685-4ef2-b0b7-c8fd48ffa43b
DTSTAMP:20260421T232912Z
DESCRIPTION:TX SMP\nSCAM OF THE MONTH\n@10:30AM\n\nSOCIAL\nGAME DAY/ FAMILY
  FEUD\n@11AM
DTSTART;TZID=America/Chicago:20260420T103000
DTEND;TZID=America/Chicago:20260420T120000
LOCATION:1717 FM359\, Richmond\, TX 77406 US
SUMMARY:Jones Creek: Scam of the Month\, Game Day
END:VEVENT
END:VCALENDAR
