BEGIN:VCALENDAR
VERSION:2.0
PRODID:-//empowercdc.org//NONSGML kigkonsult.se iCalcreator 2.30.10//
CALSCALE:GREGORIAN
METHOD:PUBLISH
UID:706a4707-ee91-4d24-b310-1574a6ff0874
X-WR-CALDESC:ARTS & CRAFTS\nEmpower\nVelvet Poster Art\n@3:30
X-WR-RELCALID:d8c679aeb894d47c00f697f70f0a7af8
X-WR-TIMEZONE:America/Chicago
BEGIN:VTIMEZONE
TZID:America/Chicago
BEGIN:STANDARD
TZNAME:CST
DTSTART:20251102T020000
TZOFFSETFROM:-0500
TZOFFSETTO:-0600
RDATE:20261101T020000
END:STANDARD
BEGIN:DAYLIGHT
TZNAME:CDT
DTSTART:20260308T020000
TZOFFSETFROM:-0600
TZOFFSETTO:-0500
RDATE:20270314T020000
END:DAYLIGHT
END:VTIMEZONE
BEGIN:VEVENT
UID:cd1fc2e0-db72-4f4b-84f7-503317f5000a
DTSTAMP:20260421T225957Z
DESCRIPTION:ARTS & CRAFTS\nEmpower\nVelvet Poster Art\n@3:30
DTSTART;TZID=America/Chicago:20260417T153000
DTEND;TZID=America/Chicago:20260417T163000
LOCATION:12353 Huffmeister Rd\, Cypress\, TX 77429 US
SUMMARY:The Meadows: Arts & Crafts
END:VEVENT
END:VCALENDAR
