BEGIN:VCALENDAR
VERSION:2.0
PRODID:-//empowercdc.org//NONSGML kigkonsult.se iCalcreator 2.30.10//
CALSCALE:GREGORIAN
METHOD:PUBLISH
UID:61d996dd-69f7-4f43-8b55-3d47c0ad179e
X-WR-CALDESC:ARTS & CRAFTS-\nEmpower\n\nAir Freshener\n@11:00AM\n*Registrat
 ion\nRequired*
X-WR-RELCALID:bf276361a50450639bc62278f465cac1
X-WR-TIMEZONE:America/Chicago
BEGIN:VTIMEZONE
TZID:America/Chicago
BEGIN:STANDARD
TZNAME:CST
DTSTART:20251102T020000
TZOFFSETFROM:-0500
TZOFFSETTO:-0600
RDATE:20261101T020000
END:STANDARD
BEGIN:DAYLIGHT
TZNAME:CDT
DTSTART:20260308T020000
TZOFFSETFROM:-0600
TZOFFSETTO:-0500
RDATE:20270314T020000
END:DAYLIGHT
END:VTIMEZONE
BEGIN:VEVENT
UID:583bcde9-5988-46ad-bdc7-6d4d98efcfed
DTSTAMP:20260421T230039Z
DESCRIPTION:ARTS & CRAFTS-\nEmpower\n\nAir Freshener\n@11:00AM\n*Registrati
 on\nRequired*
DTSTART;TZID=America/Chicago:20260417T110000
DTEND;TZID=America/Chicago:20260417T120000
LOCATION:1830 Hollyoak Dr\, Houston\, AL 77084 US
SUMMARY:Hollyoak: Arts & Crafts
END:VEVENT
END:VCALENDAR
