BEGIN:VCALENDAR
VERSION:2.0
PRODID:-//empowercdc.org//NONSGML kigkonsult.se iCalcreator 2.30.10//
CALSCALE:GREGORIAN
METHOD:PUBLISH
UID:44e08d8d-1ed6-4c8f-b3b8-407c973cac19
X-WR-CALDESC:FOOD PANTRY-\nEmpower\n\nFood Pantry\n@2:00PM\n\nTxSMP- Empowe
 r\nScam of the Month\n@3:00PM
X-WR-RELCALID:8326b3fb348452c8ea2a9434b140e4a9
X-WR-TIMEZONE:America/Chicago
BEGIN:VTIMEZONE
TZID:America/Chicago
BEGIN:STANDARD
TZNAME:CST
DTSTART:20251102T020000
TZOFFSETFROM:-0500
TZOFFSETTO:-0600
RDATE:20261101T020000
END:STANDARD
BEGIN:DAYLIGHT
TZNAME:CDT
DTSTART:20260308T020000
TZOFFSETFROM:-0600
TZOFFSETTO:-0500
RDATE:20270314T020000
END:DAYLIGHT
END:VTIMEZONE
BEGIN:VEVENT
UID:f7edb612-ca19-4a18-aa34-742ab58d38f1
DTSTAMP:20260421T232340Z
DESCRIPTION:FOOD PANTRY-\nEmpower\n\nFood Pantry\n@2:00PM\n\nTxSMP- Empower
 \nScam of the Month\n@3:00PM
DTSTART;TZID=America/Chicago:20260416T140000
DTEND;TZID=America/Chicago:20260416T160000
LOCATION:325 Flagship Boulevard\, Montgomery\, AL 77316 US
SUMMARY:The Heritage: Food Pantry\, Scam of the Month
END:VEVENT
END:VCALENDAR
