BEGIN:VCALENDAR
VERSION:2.0
PRODID:-//empowercdc.org//NONSGML kigkonsult.se iCalcreator 2.30.10//
CALSCALE:GREGORIAN
METHOD:PUBLISH
UID:10111698-75be-4cb4-b74c-9fb1a59d233d
X-WR-CALDESC:TxSMP- Empower\nScam of the Month\n@11:00AM\n\nEXERCISE- Empow
 er\nAdaptive Fitness\n@12:00PM
X-WR-RELCALID:01ba96132804cd45b20d3a766e987fad
X-WR-TIMEZONE:America/Chicago
BEGIN:VTIMEZONE
TZID:America/Chicago
BEGIN:STANDARD
TZNAME:CST
DTSTART:20251102T020000
TZOFFSETFROM:-0500
TZOFFSETTO:-0600
RDATE:20261101T020000
END:STANDARD
BEGIN:DAYLIGHT
TZNAME:CDT
DTSTART:20260308T020000
TZOFFSETFROM:-0600
TZOFFSETTO:-0500
RDATE:20270314T020000
END:DAYLIGHT
END:VTIMEZONE
BEGIN:VEVENT
UID:bd954e2d-562a-486c-b532-b772a6794dc5
DTSTAMP:20260421T230245Z
DESCRIPTION:TxSMP- Empower\nScam of the Month\n@11:00AM\n\nEXERCISE- Empowe
 r\nAdaptive Fitness\n@12:00PM
DTSTART;TZID=America/Chicago:20260414T110000
DTEND;TZID=America/Chicago:20260414T130000
LOCATION:1830 Hollyoak Dr\, Houston\, AL 77084 US
SUMMARY:Hollyoak: Scam of the Month\, Exercise
END:VEVENT
END:VCALENDAR
