BEGIN:VCALENDAR
VERSION:2.0
PRODID:-//empowercdc.org//NONSGML kigkonsult.se iCalcreator 2.30.10//
CALSCALE:GREGORIAN
METHOD:PUBLISH
UID:9d438de7-cb80-41eb-9fbf-dad6469f5a10
X-WR-CALDESC:SOCIAL-Empower\nApril Showers Social\n@11:00AM
X-WR-RELCALID:43fbabae42286669a4881b955b658dcf
X-WR-TIMEZONE:America/Chicago
BEGIN:VTIMEZONE
TZID:America/Chicago
BEGIN:STANDARD
TZNAME:CST
DTSTART:20251102T020000
TZOFFSETFROM:-0500
TZOFFSETTO:-0600
RDATE:20261101T020000
END:STANDARD
BEGIN:DAYLIGHT
TZNAME:CDT
DTSTART:20260308T020000
TZOFFSETFROM:-0600
TZOFFSETTO:-0500
RDATE:20270314T020000
END:DAYLIGHT
END:VTIMEZONE
BEGIN:VEVENT
UID:47b889c3-dc2a-4f50-b486-921c19fc49f1
DTSTAMP:20260421T230450Z
DESCRIPTION:SOCIAL-Empower\nApril Showers Social\n@11:00AM
DTSTART;TZID=America/Chicago:20260413T110000
DTEND;TZID=America/Chicago:20260413T120000
LOCATION:219 Flasgship Blvd\, Montgomery\, TX 77316 US
SUMMARY:The Heritage 55+: April Showers Social
END:VEVENT
END:VCALENDAR
