BEGIN:VCALENDAR
VERSION:2.0
PRODID:-//empowercdc.org//NONSGML kigkonsult.se iCalcreator 2.30.10//
CALSCALE:GREGORIAN
METHOD:PUBLISH
UID:a8009fc5-60ed-47d0-8831-51c4db3fd463
X-WR-CALDESC:EXERCISE\nCHAIR EXERCISE\n@10AM\n\nSOCIAL\nBOOGIE BINGO\nCP- L
 ESLIE PEACOCK\n@11AM
X-WR-RELCALID:43c349f79f91ec24299115a74a2d95d3
X-WR-TIMEZONE:America/Chicago
BEGIN:VTIMEZONE
TZID:America/Chicago
BEGIN:STANDARD
TZNAME:CST
DTSTART:20251102T020000
TZOFFSETFROM:-0500
TZOFFSETTO:-0600
RDATE:20261101T020000
END:STANDARD
BEGIN:DAYLIGHT
TZNAME:CDT
DTSTART:20260308T020000
TZOFFSETFROM:-0600
TZOFFSETTO:-0500
RDATE:20270314T020000
END:DAYLIGHT
END:VTIMEZONE
BEGIN:VEVENT
UID:f79a6307-3185-4f02-9a35-8849e6fe3ce2
DTSTAMP:20260421T230326Z
DESCRIPTION:EXERCISE\nCHAIR EXERCISE\n@10AM\n\nSOCIAL\nBOOGIE BINGO\nCP- LE
 SLIE PEACOCK\n@11AM
DTSTART;TZID=America/Chicago:20260410T100000
DTEND;TZID=America/Chicago:20260410T120000
LOCATION:15707 Kuykendahl Ct\, Conroe\, TX 77384 US
SUMMARY:Kuykendalh Court: Exercise\, Social
END:VEVENT
END:VCALENDAR
