BEGIN:VCALENDAR
VERSION:2.0
PRODID:-//empowercdc.org//NONSGML kigkonsult.se iCalcreator 2.30.10//
CALSCALE:GREGORIAN
METHOD:PUBLISH
UID:9b0b32a3-84a6-416a-9e24-273ecfb6a6e0
X-WR-CALDESC:ARTS & CRAFTS-\nDoTerra- CP\n\nEssential Oils\n@10:00AM\n\nSOC
 IAL- Empower\nApril Showers Social\n@11:00AM
X-WR-RELCALID:49fc7bad991cc5a194c80d94b61bef89
X-WR-TIMEZONE:America/Chicago
BEGIN:VTIMEZONE
TZID:America/Chicago
BEGIN:STANDARD
TZNAME:CST
DTSTART:20251102T020000
TZOFFSETFROM:-0500
TZOFFSETTO:-0600
RDATE:20261101T020000
END:STANDARD
BEGIN:DAYLIGHT
TZNAME:CDT
DTSTART:20260308T020000
TZOFFSETFROM:-0600
TZOFFSETTO:-0500
RDATE:20270314T020000
END:DAYLIGHT
END:VTIMEZONE
BEGIN:VEVENT
UID:13d9232e-d3fa-4c85-a94c-9bdfbb34d15d
DTSTAMP:20260421T232912Z
DESCRIPTION:ARTS & CRAFTS-\nDoTerra- CP\n\nEssential Oils\n@10:00AM\n\nSOCI
 AL- Empower\nApril Showers Social\n@11:00AM
DTSTART;TZID=America/Chicago:20260410T100000
DTEND;TZID=America/Chicago:20260410T120000
LOCATION:1830 Hollyoak Dr\, Houston\, AL 77084 US
SUMMARY:Hollyoak: Arts & Crafts\, April Showers Social
END:VEVENT
END:VCALENDAR
