BEGIN:VCALENDAR
VERSION:2.0
PRODID:-//empowercdc.org//NONSGML kigkonsult.se iCalcreator 2.30.10//
CALSCALE:GREGORIAN
METHOD:PUBLISH
UID:0a0c3b0e-0d96-4f2e-9f4c-7302dbb53316
X-WR-CALDESC:SOCIAL- Texans\nBenefit- CP\nBirthday Social\n@12:30PM
X-WR-RELCALID:00bcbf1e538d9e5335501adaf0d44450
X-WR-TIMEZONE:America/Chicago
BEGIN:VTIMEZONE
TZID:America/Chicago
BEGIN:STANDARD
TZNAME:CST
DTSTART:20251102T020000
TZOFFSETFROM:-0500
TZOFFSETTO:-0600
RDATE:20261101T020000
END:STANDARD
BEGIN:DAYLIGHT
TZNAME:CDT
DTSTART:20260308T020000
TZOFFSETFROM:-0600
TZOFFSETTO:-0500
RDATE:20270314T020000
END:DAYLIGHT
END:VTIMEZONE
BEGIN:VEVENT
UID:ea271fd0-64d9-4d35-98b3-9170e6c0bfad
DTSTAMP:20260421T232325Z
DESCRIPTION:SOCIAL- Texans\nBenefit- CP\nBirthday Social\n@12:30PM
DTSTART;TZID=America/Chicago:20260401T123000
DTEND;TZID=America/Chicago:20260401T133000
LOCATION:219 Flasgship Blvd\, Montgomery\, TX 77316 US
SUMMARY:The Heritage 55+: Birthday Social
END:VEVENT
END:VCALENDAR
