BEGIN:VCALENDAR
VERSION:2.0
PRODID:-//empowercdc.org//NONSGML kigkonsult.se iCalcreator 2.30.10//
CALSCALE:GREGORIAN
METHOD:PUBLISH
UID:7f96d0f7-c06b-473e-9bfc-eebf42a439b2
X-WR-CALDESC:HOUSTON FOOD BANK\n@2pm-6pm\n
X-WR-RELCALID:415e4ef0e0c1657a7870b6c16af211cd
X-WR-TIMEZONE:America/Chicago
BEGIN:VTIMEZONE
TZID:America/Chicago
BEGIN:STANDARD
TZNAME:CST
DTSTART:20251102T020000
TZOFFSETFROM:-0500
TZOFFSETTO:-0600
RDATE:20261101T020000
END:STANDARD
BEGIN:DAYLIGHT
TZNAME:CDT
DTSTART:20260308T020000
TZOFFSETFROM:-0600
TZOFFSETTO:-0500
RDATE:20270314T020000
END:DAYLIGHT
END:VTIMEZONE
BEGIN:VEVENT
UID:0932d518-491c-453d-9d73-17647ea479cf
DTSTAMP:20260421T231949Z
DESCRIPTION:HOUSTON FOOD BANK\n@2pm-6pm\n
DTSTART;TZID=America/Chicago:20260401T140000
DTEND;TZID=America/Chicago:20260401T180000
LOCATION:1620 Spencer Hwy\, South Houston\, TX 77587 US
SUMMARY:Windsor Gardens: Houston Food Bank
END:VEVENT
END:VCALENDAR
