BEGIN:VCALENDAR
VERSION:2.0
PRODID:-//empowercdc.org//NONSGML kigkonsult.se iCalcreator 2.30.10//
CALSCALE:GREGORIAN
METHOD:PUBLISH
UID:249c9964-2cfa-4db7-bd4a-c440239bee5c
X-WR-CALDESC:SOCIAL Empower\nFood Pantry\n@ 3:00 PM\n\n*Resident only event
 *
X-WR-RELCALID:ae8e4ebc82cef5f9053bdd90c02c280d
X-WR-TIMEZONE:America/Chicago
BEGIN:VTIMEZONE
TZID:America/Chicago
BEGIN:STANDARD
TZNAME:CST
DTSTART:20251102T020000
TZOFFSETFROM:-0500
TZOFFSETTO:-0600
RDATE:20261101T020000
END:STANDARD
BEGIN:DAYLIGHT
TZNAME:CDT
DTSTART:20260308T020000
TZOFFSETFROM:-0600
TZOFFSETTO:-0500
RDATE:20270314T020000
END:DAYLIGHT
END:VTIMEZONE
BEGIN:VEVENT
UID:125628de-c140-4627-a000-40ef70452482
DTSTAMP:20260422T003611Z
DESCRIPTION:SOCIAL Empower\nFood Pantry\n@ 3:00 PM\n\n*Resident only event*
DTSTART;TZID=America/Chicago:20260331T150000
DTEND;TZID=America/Chicago:20260331T170000
LOCATION:12353 Huffmeister Rd\, Cypress\, TX 77429 US
SUMMARY:The Meadows: Food Pantry
END:VEVENT
END:VCALENDAR
