BEGIN:VCALENDAR
VERSION:2.0
PRODID:-//empowercdc.org//NONSGML kigkonsult.se iCalcreator 2.30.10//
CALSCALE:GREGORIAN
METHOD:PUBLISH
UID:d4f74e92-8ec0-4fb8-813a-3a6f0699d55e
X-WR-CALDESC:EXERCISE\nCHAIR EXERCISE\n@10AM
X-WR-RELCALID:335e8cec309afc5f760204694204fc53
X-WR-TIMEZONE:America/Chicago
BEGIN:VTIMEZONE
TZID:America/Chicago
BEGIN:STANDARD
TZNAME:CST
DTSTART:20251102T020000
TZOFFSETFROM:-0500
TZOFFSETTO:-0600
RDATE:20261101T020000
END:STANDARD
BEGIN:DAYLIGHT
TZNAME:CDT
DTSTART:20260308T020000
TZOFFSETFROM:-0600
TZOFFSETTO:-0500
RDATE:20270314T020000
END:DAYLIGHT
END:VTIMEZONE
BEGIN:VEVENT
UID:cffb3dfb-75e4-4c16-8093-124c9f3d2eea
DTSTAMP:20260422T002925Z
DESCRIPTION:EXERCISE\nCHAIR EXERCISE\n@10AM
DTSTART;TZID=America/Chicago:20260331T100000
DTEND;TZID=America/Chicago:20260331T110000
LOCATION:1717 FM359\, Richmond\, TX 77406 US
SUMMARY:Jones Creek: Exercise
END:VEVENT
END:VCALENDAR
