BEGIN:VCALENDAR
VERSION:2.0
PRODID:-//empowercdc.org//NONSGML kigkonsult.se iCalcreator 2.30.10//
CALSCALE:GREGORIAN
METHOD:PUBLISH
UID:12db5fe9-231a-49e0-afa7-d319b0ba8d85
X-WR-CALDESC:HEALTH & NUTRITION- Empower\nHealth & Wellness\n@11:00AM
X-WR-RELCALID:e2ff880eabb4d923579dfa55ea74e260
X-WR-TIMEZONE:America/Chicago
BEGIN:VTIMEZONE
TZID:America/Chicago
BEGIN:STANDARD
TZNAME:CST
DTSTART:20251102T020000
TZOFFSETFROM:-0500
TZOFFSETTO:-0600
RDATE:20261101T020000
END:STANDARD
BEGIN:DAYLIGHT
TZNAME:CDT
DTSTART:20260308T020000
TZOFFSETFROM:-0600
TZOFFSETTO:-0500
RDATE:20270314T020000
END:DAYLIGHT
END:VTIMEZONE
BEGIN:VEVENT
UID:11a9cccb-eb9b-4ae3-8ce6-4706e4326b16
DTSTAMP:20260422T002924Z
DESCRIPTION:HEALTH & NUTRITION- Empower\nHealth & Wellness\n@11:00AM
DTSTART;TZID=America/Chicago:20260331T110000
DTEND;TZID=America/Chicago:20260331T120000
LOCATION:1830 Hollyoak Dr\, Houston\, AL 77084 US
SUMMARY:Hollyoak: Health & Nutrition
END:VEVENT
END:VCALENDAR
