BEGIN:VCALENDAR
VERSION:2.0
PRODID:-//empowercdc.org//NONSGML kigkonsult.se iCalcreator 2.30.10//
CALSCALE:GREGORIAN
METHOD:PUBLISH
UID:4d63d659-1eed-4d9e-9a8a-18666babc49c
X-WR-CALDESC:HEALTH FAIR- Empower\nAnnual Health Fair\n@11:00AM\n\n*Registr
 ation Required*
X-WR-RELCALID:ad169dab8384a66d835766224375cdac
X-WR-TIMEZONE:America/Chicago
BEGIN:VTIMEZONE
TZID:America/Chicago
BEGIN:STANDARD
TZNAME:CST
DTSTART:20251102T020000
TZOFFSETFROM:-0500
TZOFFSETTO:-0600
RDATE:20261101T020000
END:STANDARD
BEGIN:DAYLIGHT
TZNAME:CDT
DTSTART:20260308T020000
TZOFFSETFROM:-0600
TZOFFSETTO:-0500
RDATE:20270314T020000
END:DAYLIGHT
END:VTIMEZONE
BEGIN:VEVENT
UID:29221278-b602-4579-9317-cad8d9d8b5d8
DTSTAMP:20260422T003940Z
DESCRIPTION:HEALTH FAIR- Empower\nAnnual Health Fair\n@11:00AM\n\n*Registra
 tion Required*
DTSTART;TZID=America/Chicago:20260327T110000
DTEND;TZID=America/Chicago:20260327T130000
LOCATION:1830 Hollyoak Dr\, Houston\, AL 77084 US
SUMMARY:Hollyoak: Annual Health Fair
END:VEVENT
END:VCALENDAR
