BEGIN:VCALENDAR
VERSION:2.0
PRODID:-//empowercdc.org//NONSGML kigkonsult.se iCalcreator 2.30.10//
CALSCALE:GREGORIAN
METHOD:PUBLISH
UID:d647f00a-3f90-46aa-a828-961c3c7eb9cc
X-WR-CALDESC:FOOD PANTRY\nEmpower\nMonthly Food Pantry\n@1:00 PM\n\n*Reside
 nt only event*
X-WR-RELCALID:24986131c99c1159134c2664ba9c0a85
X-WR-TIMEZONE:America/Chicago
BEGIN:VTIMEZONE
TZID:America/Chicago
BEGIN:STANDARD
TZNAME:CST
DTSTART:20251102T020000
TZOFFSETFROM:-0500
TZOFFSETTO:-0600
RDATE:20261101T020000
END:STANDARD
BEGIN:DAYLIGHT
TZNAME:CDT
DTSTART:20260308T020000
TZOFFSETFROM:-0600
TZOFFSETTO:-0500
RDATE:20270314T020000
END:DAYLIGHT
END:VTIMEZONE
BEGIN:VEVENT
UID:34190c62-6ed2-4c83-969d-afa16087b26b
DTSTAMP:20260422T003751Z
DESCRIPTION:FOOD PANTRY\nEmpower\nMonthly Food Pantry\n@1:00 PM\n\n*Residen
 t only event*
DTSTART;TZID=America/Chicago:20260324T130000
DTEND;TZID=America/Chicago:20260324T140000
LOCATION:6725 Brittmoore Road\, Houston\, TX 77041 US
SUMMARY:Brittmoore: Monthly Food Pantry
END:VEVENT
END:VCALENDAR
