BEGIN:VCALENDAR
VERSION:2.0
PRODID:-//empowercdc.org//NONSGML kigkonsult.se iCalcreator 2.30.10//
CALSCALE:GREGORIAN
METHOD:PUBLISH
UID:d67cd8ad-25f7-4fa9-ab3c-9c133563c08a
X-WR-CALDESC:EXERCISE Empower\nDynamic Stretch\n@ 3:30 PM\n\nARTS & CRAFTS 
 Empower\nBracelets\n@ 4:30PM\n\n*Resident only event*
X-WR-RELCALID:e0cb873fbd9cfe16ad73eaa656aa3762
X-WR-TIMEZONE:America/Chicago
BEGIN:VTIMEZONE
TZID:America/Chicago
BEGIN:STANDARD
TZNAME:CST
DTSTART:20251102T020000
TZOFFSETFROM:-0500
TZOFFSETTO:-0600
RDATE:20261101T020000
END:STANDARD
BEGIN:DAYLIGHT
TZNAME:CDT
DTSTART:20260308T020000
TZOFFSETFROM:-0600
TZOFFSETTO:-0500
RDATE:20270314T020000
END:DAYLIGHT
END:VTIMEZONE
BEGIN:VEVENT
UID:87975e65-a897-4239-9470-d978d0689fa3
DTSTAMP:20260422T003730Z
DESCRIPTION:EXERCISE Empower\nDynamic Stretch\n@ 3:30 PM\n\nARTS & CRAFTS E
 mpower\nBracelets\n@ 4:30PM\n\n*Resident only event*
DTSTART;TZID=America/Chicago:20260323T153000
DTEND;TZID=America/Chicago:20260323T173000
LOCATION:12353 Huffmeister Rd\, Cypress\, TX 77429 US
SUMMARY:The Meadows: Exercise\, Arts & Crafts
END:VEVENT
END:VCALENDAR
