BEGIN:VCALENDAR
VERSION:2.0
PRODID:-//empowercdc.org//NONSGML kigkonsult.se iCalcreator 2.30.10//
CALSCALE:GREGORIAN
METHOD:PUBLISH
UID:855f4ae0-786e-4678-bc24-b12ea304b239
X-WR-CALDESC:ARTS & CRAFTS\nEmpower\nSt. Patrick’s Coloring\n@3:00\n\n*Resi
 dent only event*
X-WR-RELCALID:b8c9c3ce99dea53f744fac49d169ac3f
X-WR-TIMEZONE:America/Chicago
BEGIN:VTIMEZONE
TZID:America/Chicago
BEGIN:STANDARD
TZNAME:CST
DTSTART:20251102T020000
TZOFFSETFROM:-0500
TZOFFSETTO:-0600
RDATE:20261101T020000
END:STANDARD
BEGIN:DAYLIGHT
TZNAME:CDT
DTSTART:20260308T020000
TZOFFSETFROM:-0600
TZOFFSETTO:-0500
RDATE:20270314T020000
END:DAYLIGHT
END:VTIMEZONE
BEGIN:VEVENT
UID:11dcf151-0779-4a91-afb9-080d6533ef49
DTSTAMP:20260422T003807Z
DESCRIPTION:ARTS & CRAFTS\nEmpower\nSt. Patrick’s Coloring\n@3:00\n\n*Resid
 ent only event*
DTSTART;TZID=America/Chicago:20260319T150000
DTEND;TZID=America/Chicago:20260319T160000
LOCATION:6725 Brittmoore Road\, Houston\, TX 77041 US
SUMMARY:Brittmoore: St. Patricks Coloring
END:VEVENT
END:VCALENDAR
