BEGIN:VCALENDAR
VERSION:2.0
PRODID:-//empowercdc.org//NONSGML kigkonsult.se iCalcreator 2.30.10//
CALSCALE:GREGORIAN
METHOD:PUBLISH
UID:58949798-90b7-4668-8bc4-31a02e607d4f
X-WR-CALDESC:SOCIAL - Empower\nSt. Patrick’s Social\n@ 3:00 PM\n\n*Resident
  only event*
X-WR-RELCALID:b0f7d46f323a067ecf31062e517af018
X-WR-TIMEZONE:America/Chicago
BEGIN:VTIMEZONE
TZID:America/Chicago
BEGIN:STANDARD
TZNAME:CST
DTSTART:20251102T020000
TZOFFSETFROM:-0500
TZOFFSETTO:-0600
RDATE:20261101T020000
END:STANDARD
BEGIN:DAYLIGHT
TZNAME:CDT
DTSTART:20260308T020000
TZOFFSETFROM:-0600
TZOFFSETTO:-0500
RDATE:20270314T020000
END:DAYLIGHT
END:VTIMEZONE
BEGIN:VEVENT
UID:3d9aede2-ff6f-41c6-bee2-5cf8487c0e68
DTSTAMP:20260422T003633Z
DESCRIPTION:SOCIAL - Empower\nSt. Patrick’s Social\n@ 3:00 PM\n\n*Resident 
 only event*
DTSTART;TZID=America/Chicago:20260317T150000
DTEND;TZID=America/Chicago:20260317T160000
LOCATION:6725 Brittmoore Road\, Houston\, TX 77041 US
SUMMARY:Brittmoore: St. Patrick's Social
END:VEVENT
END:VCALENDAR
