BEGIN:VCALENDAR
VERSION:2.0
PRODID:-//empowercdc.org//NONSGML kigkonsult.se iCalcreator 2.30.10//
CALSCALE:GREGORIAN
METHOD:PUBLISH
UID:56bd6b46-bb24-408c-9d92-c4566873209f
X-WR-CALDESC:EXERCISE Empower\nDynamic Stretch\n@ 3:30 PM\n\nCHARACTER BUIL
 DING\nEmpower\nSpelling B\n@ 4:30 PM\n\n*Resident only event*
X-WR-RELCALID:7f8770faeadb13f5bd8863db62511dc8
X-WR-TIMEZONE:America/Chicago
BEGIN:VTIMEZONE
TZID:America/Chicago
BEGIN:STANDARD
TZNAME:CST
DTSTART:20251102T020000
TZOFFSETFROM:-0500
TZOFFSETTO:-0600
RDATE:20261101T020000
END:STANDARD
BEGIN:DAYLIGHT
TZNAME:CDT
DTSTART:20260308T020000
TZOFFSETFROM:-0600
TZOFFSETTO:-0500
RDATE:20270314T020000
END:DAYLIGHT
END:VTIMEZONE
BEGIN:VEVENT
UID:b71aca37-762d-41a2-ae00-f5b505432fe9
DTSTAMP:20260422T003236Z
DESCRIPTION:EXERCISE Empower\nDynamic Stretch\n@ 3:30 PM\n\nCHARACTER BUILD
 ING\nEmpower\nSpelling B\n@ 4:30 PM\n\n*Resident only event*
DTSTART;TZID=America/Chicago:20260316T153000
DTEND;TZID=America/Chicago:20260316T173000
LOCATION:12353 Huffmeister Rd\, Cypress\, TX 77429 US
SUMMARY:The Meadows: Exercise\, Character Building
END:VEVENT
END:VCALENDAR
