BEGIN:VCALENDAR
VERSION:2.0
PRODID:-//empowercdc.org//NONSGML kigkonsult.se iCalcreator 2.30.10//
CALSCALE:GREGORIAN
METHOD:PUBLISH
UID:98f669dc-e463-4f1d-9b7b-c50ecfa7928d
X-WR-CALDESC:TX SMP\nSCAM OF THE MONTH\n@10:30AM\n\nSOCIAL\nGAME DAY\nCP-JE
 ANETTE MORALES\n@11AM
X-WR-RELCALID:bbafa134b219a579a0300e78158b6714
X-WR-TIMEZONE:America/Chicago
BEGIN:VTIMEZONE
TZID:America/Chicago
BEGIN:STANDARD
TZNAME:CST
DTSTART:20251102T020000
TZOFFSETFROM:-0500
TZOFFSETTO:-0600
RDATE:20261101T020000
END:STANDARD
BEGIN:DAYLIGHT
TZNAME:CDT
DTSTART:20260308T020000
TZOFFSETFROM:-0600
TZOFFSETTO:-0500
RDATE:20270314T020000
END:DAYLIGHT
END:VTIMEZONE
BEGIN:VEVENT
UID:1707243e-159e-4f3b-9298-81534da4035b
DTSTAMP:20260422T003359Z
DESCRIPTION:TX SMP\nSCAM OF THE MONTH\n@10:30AM\n\nSOCIAL\nGAME DAY\nCP-JEA
 NETTE MORALES\n@11AM
DTSTART;TZID=America/Chicago:20260316T103000
DTEND;TZID=America/Chicago:20260316T120000
LOCATION:1717 FM359\, Richmond\, TX 77406 US
SUMMARY:Jones Creek: Scam of the Month\, Game Day Social
END:VEVENT
END:VCALENDAR
