BEGIN:VCALENDAR
VERSION:2.0
PRODID:-//empowercdc.org//NONSGML kigkonsult.se iCalcreator 2.30.10//
CALSCALE:GREGORIAN
METHOD:PUBLISH
UID:956d02ed-095b-4031-b3a5-cc8e798448c7
X-WR-CALDESC:Annual Health Fair\nEmpower\nHealth Fair\n@3:00\n\n*Resident o
 nly event*
X-WR-RELCALID:ad42b63c4c756d8e6e72733f58169a58
X-WR-TIMEZONE:America/Chicago
BEGIN:VTIMEZONE
TZID:America/Chicago
BEGIN:STANDARD
TZNAME:CST
DTSTART:20251102T020000
TZOFFSETFROM:-0500
TZOFFSETTO:-0600
RDATE:20261101T020000
END:STANDARD
BEGIN:DAYLIGHT
TZNAME:CDT
DTSTART:20260308T020000
TZOFFSETFROM:-0600
TZOFFSETTO:-0500
RDATE:20270314T020000
END:DAYLIGHT
END:VTIMEZONE
BEGIN:VEVENT
UID:bcec50bb-3c1f-4c50-9def-c10b36bbf027
DTSTAMP:20260422T003730Z
DESCRIPTION:Annual Health Fair\nEmpower\nHealth Fair\n@3:00\n\n*Resident on
 ly event*
DTSTART;TZID=America/Chicago:20260313T150000
DTEND;TZID=America/Chicago:20260313T170000
LOCATION:12353 Huffmeister Rd\, Cypress\, TX 77429 US
SUMMARY:The Meadows: Annual Health Fair
END:VEVENT
END:VCALENDAR
