BEGIN:VCALENDAR
VERSION:2.0
PRODID:-//empowercdc.org//NONSGML kigkonsult.se iCalcreator 2.30.10//
CALSCALE:GREGORIAN
METHOD:PUBLISH
UID:2661e5a4-bd40-4428-a46c-a6ff092dae64
X-WR-CALDESC:TxSMP- Empower\nScam of the Month\n@11:00AM\n\nSenior Literacy
  101-Empower\nEmail Accounts Reloaded\n@ 12:00PM
X-WR-RELCALID:b32605df080c546c8b13f8b294065876
X-WR-TIMEZONE:America/Chicago
BEGIN:VTIMEZONE
TZID:America/Chicago
BEGIN:STANDARD
TZNAME:CST
DTSTART:20251102T020000
TZOFFSETFROM:-0500
TZOFFSETTO:-0600
RDATE:20261101T020000
END:STANDARD
BEGIN:DAYLIGHT
TZNAME:CDT
DTSTART:20260308T020000
TZOFFSETFROM:-0600
TZOFFSETTO:-0500
RDATE:20270314T020000
END:DAYLIGHT
END:VTIMEZONE
BEGIN:VEVENT
UID:b71970d1-7163-4400-b887-80cbd9b0f17d
DTSTAMP:20260422T003751Z
DESCRIPTION:TxSMP- Empower\nScam of the Month\n@11:00AM\n\nSenior Literacy 
 101-Empower\nEmail Accounts Reloaded\n@ 12:00PM
DTSTART;TZID=America/Chicago:20260313T110000
DTEND;TZID=America/Chicago:20260313T130000
LOCATION:1830 Hollyoak Dr\, Houston\, AL 77084 US
SUMMARY:Hollyoak: TxSMP\, Senior Literacy 101
END:VEVENT
END:VCALENDAR
