BEGIN:VCALENDAR
VERSION:2.0
PRODID:-//empowercdc.org//NONSGML kigkonsult.se iCalcreator 2.30.10//
CALSCALE:GREGORIAN
METHOD:PUBLISH
UID:98a5703e-4e33-4bfc-846d-6497a506385a
X-WR-CALDESC:ARTS & CRAFTS-\nDoTerra- CP\nEssential Oils\n@10:00AM\n\nSOCIA
 L- Empower\nLucky Charms Social\n@11:00AM
X-WR-RELCALID:7c0b0fd09358d0a817d148de8e3a7733
X-WR-TIMEZONE:America/Chicago
BEGIN:VTIMEZONE
TZID:America/Chicago
BEGIN:STANDARD
TZNAME:CST
DTSTART:20251102T020000
TZOFFSETFROM:-0500
TZOFFSETTO:-0600
RDATE:20261101T020000
END:STANDARD
BEGIN:DAYLIGHT
TZNAME:CDT
DTSTART:20260308T020000
TZOFFSETFROM:-0600
TZOFFSETTO:-0500
RDATE:20270314T020000
END:DAYLIGHT
END:VTIMEZONE
BEGIN:VEVENT
UID:4a676f21-d742-41ac-b3c0-3ef1b0814cbc
DTSTAMP:20260422T010044Z
DESCRIPTION:ARTS & CRAFTS-\nDoTerra- CP\nEssential Oils\n@10:00AM\n\nSOCIAL
 - Empower\nLucky Charms Social\n@11:00AM
DTSTART;TZID=America/Chicago:20260313T100000
DTEND;TZID=America/Chicago:20260313T120000
LOCATION:1830 Hollyoak Dr\, Houston\, AL 77084 US
SUMMARY:Hollyoak: Arts & Crafts\, Lucky Charms Social
END:VEVENT
END:VCALENDAR
