BEGIN:VCALENDAR
VERSION:2.0
PRODID:-//empowercdc.org//NONSGML kigkonsult.se iCalcreator 2.30.10//
CALSCALE:GREGORIAN
METHOD:PUBLISH
UID:bd6b1798-c8a1-4155-8a81-d7c105f7eddd
X-WR-CALDESC:EXERCISE-Empower\nStretching @12:00PM\n\nSOCIAL- Gomez Insuran
 ce\nMedicare 101\n@ 1:00PM
X-WR-RELCALID:883c3409e38321811caba121cde1c795
X-WR-TIMEZONE:America/Chicago
BEGIN:VTIMEZONE
TZID:America/Chicago
BEGIN:STANDARD
TZNAME:CST
DTSTART:20251102T020000
TZOFFSETFROM:-0500
TZOFFSETTO:-0600
RDATE:20261101T020000
END:STANDARD
BEGIN:DAYLIGHT
TZNAME:CDT
DTSTART:20260308T020000
TZOFFSETFROM:-0600
TZOFFSETTO:-0500
RDATE:20270314T020000
END:DAYLIGHT
END:VTIMEZONE
BEGIN:VEVENT
UID:34acfa75-b282-4066-ac43-7f3f02483d4d
DTSTAMP:20260422T003101Z
DESCRIPTION:EXERCISE-Empower\nStretching @12:00PM\n\nSOCIAL- Gomez Insuranc
 e\nMedicare 101\n@ 1:00PM
DTSTART;TZID=America/Chicago:20260310T120000
DTEND;TZID=America/Chicago:20260310T130000
LOCATION:1830 Hollyoak Dr\, Houston\, AL 77084 US
SUMMARY:Hollyoak: Exercise\, Medicare 101
END:VEVENT
END:VCALENDAR
