BEGIN:VCALENDAR
VERSION:2.0
PRODID:-//empowercdc.org//NONSGML kigkonsult.se iCalcreator 2.30.10//
CALSCALE:GREGORIAN
METHOD:PUBLISH
UID:1225cfa3-c690-43e9-be0d-d18534a24894
X-WR-CALDESC:EXERCISE Empower\nDynamic Stretch\n@ 3:30 PM\n\nARTS & CRAFTS 
 Empower\nPaint w/ a Twist\n@ 4:30 PM\n\n*Resident only event*
X-WR-RELCALID:6a91fa1cd69cd7451e16bf55a084303f
X-WR-TIMEZONE:America/Chicago
BEGIN:VTIMEZONE
TZID:America/Chicago
BEGIN:STANDARD
TZNAME:CST
DTSTART:20251102T020000
TZOFFSETFROM:-0500
TZOFFSETTO:-0600
RDATE:20261101T020000
END:STANDARD
BEGIN:DAYLIGHT
TZNAME:CDT
DTSTART:20250309T020000
TZOFFSETFROM:-0600
TZOFFSETTO:-0500
RDATE:20260308T020000
RDATE:20270314T020000
END:DAYLIGHT
END:VTIMEZONE
BEGIN:VEVENT
UID:9ac4abe4-cd82-4ab5-97a8-75cbb201abf0
DTSTAMP:20260422T003633Z
DESCRIPTION:EXERCISE Empower\nDynamic Stretch\n@ 3:30 PM\n\nARTS & CRAFTS E
 mpower\nPaint w/ a Twist\n@ 4:30 PM\n\n*Resident only event*
DTSTART;TZID=America/Chicago:20260309T153000
DTEND;TZID=America/Chicago:20260309T173000
LOCATION:12353 Huffmeister Rd\, Cypress\, TX 77429 US
SUMMARY:The Meadows: Exercise\, Arts & Crafts
END:VEVENT
END:VCALENDAR
