BEGIN:VCALENDAR
VERSION:2.0
PRODID:-//empowercdc.org//NONSGML kigkonsult.se iCalcreator 2.30.10//
CALSCALE:GREGORIAN
METHOD:PUBLISH
UID:263ae781-10f7-4622-abed-ad1e8d06aac5
X-WR-CALDESC:EXERCISE- BONA- CP\nSuper Senior Fitness\n@1:00PM\n\nSOCIAL-\n
 Texans Benefit-CP\n\nBirthday Social\n@ 2:30PM
X-WR-RELCALID:3545176118100b8fe83f540d8768c246
X-WR-TIMEZONE:America/Chicago
BEGIN:VTIMEZONE
TZID:America/Chicago
BEGIN:STANDARD
TZNAME:CST
DTSTART:20251102T020000
TZOFFSETFROM:-0500
TZOFFSETTO:-0600
RDATE:20261101T020000
END:STANDARD
BEGIN:DAYLIGHT
TZNAME:CDT
DTSTART:20250309T020000
TZOFFSETFROM:-0600
TZOFFSETTO:-0500
RDATE:20260308T020000
RDATE:20270314T020000
END:DAYLIGHT
END:VTIMEZONE
BEGIN:VEVENT
UID:e3958ccb-0787-4775-9ba0-1da7ff5e258f
DTSTAMP:20260422T003447Z
DESCRIPTION:EXERCISE- BONA- CP\nSuper Senior Fitness\n@1:00PM\n\nSOCIAL-\nT
 exans Benefit-CP\n\nBirthday Social\n@ 2:30PM
DTSTART;TZID=America/Chicago:20260305T130000
DTEND;TZID=America/Chicago:20260305T153000
LOCATION:1830 Hollyoak Dr\, Houston\, AL 77084 US
SUMMARY:Hollyoak: Exercise\, Birthday Social
END:VEVENT
END:VCALENDAR
