BEGIN:VCALENDAR
VERSION:2.0
PRODID:-//empowercdc.org//NONSGML kigkonsult.se iCalcreator 2.30.10//
CALSCALE:GREGORIAN
METHOD:PUBLISH
UID:7fba6aaf-0e8e-4327-863b-2d5493171bf0
X-WR-CALDESC:ARTS & CRAFTS\nEmpower\nBracelets\n@3:00\n\n*Resident only eve
 nt*
X-WR-RELCALID:b8616ac8576345c9b01b2ff9fd8abbf4
X-WR-TIMEZONE:America/Chicago
BEGIN:VTIMEZONE
TZID:America/Chicago
BEGIN:STANDARD
TZNAME:CST
DTSTART:20251102T020000
TZOFFSETFROM:-0500
TZOFFSETTO:-0600
RDATE:20261101T020000
END:STANDARD
BEGIN:DAYLIGHT
TZNAME:CDT
DTSTART:20250309T020000
TZOFFSETFROM:-0600
TZOFFSETTO:-0500
RDATE:20260308T020000
RDATE:20270314T020000
END:DAYLIGHT
END:VTIMEZONE
BEGIN:VEVENT
UID:626a521a-110d-4a95-8f02-794e48a87cae
DTSTAMP:20260422T003616Z
DESCRIPTION:ARTS & CRAFTS\nEmpower\nBracelets\n@3:00\n\n*Resident only even
 t*
DTSTART;TZID=America/Chicago:20260305T150000
DTEND;TZID=America/Chicago:20260305T160000
LOCATION:6725 Brittmoore Road\, Houston\, TX 77041 US
SUMMARY:Brittmoore: Arts & Crafts
END:VEVENT
END:VCALENDAR
