BEGIN:VCALENDAR
VERSION:2.0
PRODID:-//empowercdc.org//NONSGML kigkonsult.se iCalcreator 2.30.10//
CALSCALE:GREGORIAN
METHOD:PUBLISH
UID:942d7d37-b412-494f-958e-7a1a7071af5b
X-WR-CALDESC:EXERCISE Empower\nTai Chi\n@ 3:00 PM\n\nARTS & CRAFTS Empower
 \nValentine’s Coloring\n@ 4:00 PM
X-WR-RELCALID:6ab7533f6a8ea1863ec811b8f035fa03
X-WR-TIMEZONE:America/Chicago
BEGIN:VTIMEZONE
TZID:America/Chicago
BEGIN:STANDARD
TZNAME:CST
DTSTART:20251102T020000
TZOFFSETFROM:-0500
TZOFFSETTO:-0600
RDATE:20261101T020000
END:STANDARD
BEGIN:DAYLIGHT
TZNAME:CDT
DTSTART:20250309T020000
TZOFFSETFROM:-0600
TZOFFSETTO:-0500
RDATE:20260308T020000
RDATE:20270314T020000
END:DAYLIGHT
END:VTIMEZONE
BEGIN:VEVENT
UID:37444bfc-a237-4bb3-a0cd-4f62221cb795
DTSTAMP:20260423T214454Z
DESCRIPTION:EXERCISE Empower\nTai Chi\n@ 3:00 PM\n\nARTS & CRAFTS Empower\n
 Valentine’s Coloring\n@ 4:00 PM
DTSTART;TZID=America/Chicago:20260223T150000
DTEND;TZID=America/Chicago:20260223T170000
LOCATION:1620 Spencer Hwy\, South Houston\, TX 77587 US
SUMMARY:Windsor Gardens: Exercise\, Arts & Crafts
END:VEVENT
END:VCALENDAR
