BEGIN:VCALENDAR
VERSION:2.0
PRODID:-//empowercdc.org//NONSGML kigkonsult.se iCalcreator 2.30.10//
CALSCALE:GREGORIAN
METHOD:PUBLISH
UID:4014f24f-a369-4f5c-959c-b4bdfb715e86
X-WR-CALDESC:EXERCISE Empower\nTai Chi\n@ 3:00 PM\n\nSOCIAL Empower\nValent
 ines Social\n@ 4:00 PM
X-WR-RELCALID:eec994281ed80dd268b514512324cd3b
X-WR-TIMEZONE:America/Chicago
BEGIN:VTIMEZONE
TZID:America/Chicago
BEGIN:STANDARD
TZNAME:CST
DTSTART:20251102T020000
TZOFFSETFROM:-0500
TZOFFSETTO:-0600
RDATE:20261101T020000
END:STANDARD
BEGIN:DAYLIGHT
TZNAME:CDT
DTSTART:20250309T020000
TZOFFSETFROM:-0600
TZOFFSETTO:-0500
RDATE:20260308T020000
RDATE:20270314T020000
END:DAYLIGHT
END:VTIMEZONE
BEGIN:VEVENT
UID:dffc9a4b-2c8e-4080-b3e4-2b9c1786968f
DTSTAMP:20260423T214455Z
DESCRIPTION:EXERCISE Empower\nTai Chi\n@ 3:00 PM\n\nSOCIAL Empower\nValenti
 nes Social\n@ 4:00 PM
DTSTART;TZID=America/Chicago:20260220T150000
DTEND;TZID=America/Chicago:20260220T170000
LOCATION:1620 Spencer Hwy\, South Houston\, TX 77587 US
SUMMARY:Windsor Gardens: Exercise\, Valentines
END:VEVENT
END:VCALENDAR
