BEGIN:VCALENDAR
VERSION:2.0
PRODID:-//empowercdc.org//NONSGML kigkonsult.se iCalcreator 2.30.10//
CALSCALE:GREGORIAN
METHOD:PUBLISH
UID:0996c30f-f559-40cd-9b32-5fb6618a42a5
X-WR-CALDESC:EXERCISE Empower\nTai Chi\n@ 3:00 PM\n\nHEALTH & NUTRITION\nEm
 power\nFruit Bash\n@4:00 PM
X-WR-RELCALID:81ccfabe6f0f3a3eb9778a4d162cce3d
X-WR-TIMEZONE:America/Chicago
BEGIN:VTIMEZONE
TZID:America/Chicago
BEGIN:STANDARD
TZNAME:CST
DTSTART:20251102T020000
TZOFFSETFROM:-0500
TZOFFSETTO:-0600
RDATE:20261101T020000
END:STANDARD
BEGIN:DAYLIGHT
TZNAME:CDT
DTSTART:20250309T020000
TZOFFSETFROM:-0600
TZOFFSETTO:-0500
RDATE:20260308T020000
RDATE:20270314T020000
END:DAYLIGHT
END:VTIMEZONE
BEGIN:VEVENT
UID:8c2cf2a7-c699-4783-9e63-d75a2a01f937
DTSTAMP:20260423T214703Z
DESCRIPTION:EXERCISE Empower\nTai Chi\n@ 3:00 PM\n\nHEALTH & NUTRITION\nEmp
 ower\nFruit Bash\n@4:00 PM
DTSTART;TZID=America/Chicago:20260213T150000
DTEND;TZID=America/Chicago:20260213T170000
LOCATION:1620 Spencer Hwy\, South Houston\, TX 77587 US
SUMMARY:Windsor Gardens: Exercise\, Health & Nutrition
END:VEVENT
END:VCALENDAR
