BEGIN:VCALENDAR
VERSION:2.0
PRODID:-//empowercdc.org//NONSGML kigkonsult.se iCalcreator 2.30.10//
CALSCALE:GREGORIAN
METHOD:PUBLISH
UID:1d0357d4-24d0-4ea9-9fd2-be8e4679a9d7
X-WR-CALDESC:CHARACTER BUILDING\nEmpower\nProject Canvas\n@ 3:00 PM
X-WR-RELCALID:700eaef84ebf91eeab2f55c1266f69b0
X-WR-TIMEZONE:America/Chicago
BEGIN:VTIMEZONE
TZID:America/Chicago
BEGIN:STANDARD
TZNAME:CST
DTSTART:20251102T020000
TZOFFSETFROM:-0500
TZOFFSETTO:-0600
RDATE:20261101T020000
END:STANDARD
BEGIN:DAYLIGHT
TZNAME:CDT
DTSTART:20250309T020000
TZOFFSETFROM:-0600
TZOFFSETTO:-0500
RDATE:20260308T020000
RDATE:20270314T020000
END:DAYLIGHT
END:VTIMEZONE
BEGIN:VEVENT
UID:c7971a18-4bfc-4338-99a2-a0ad1154f4a4
DTSTAMP:20260423T214455Z
DESCRIPTION:CHARACTER BUILDING\nEmpower\nProject Canvas\n@ 3:00 PM
DTSTART;TZID=America/Chicago:20260213T150000
DTEND;TZID=America/Chicago:20260213T160000
LOCATION:1620 Spencer Hwy\, South Houston\, TX 77587 US
SUMMARY:Windsor Gardens: Character Building
END:VEVENT
END:VCALENDAR
