BEGIN:VCALENDAR
VERSION:2.0
PRODID:-//empowercdc.org//NONSGML kigkonsult.se iCalcreator 2.30.10//
CALSCALE:GREGORIAN
METHOD:PUBLISH
UID:8e5305d9-5007-4b46-8c4c-ab1654a8b100
X-WR-CALDESC:TxSMP- Empower\nScam of the Month\n@2:00PM\n\nHEALTH & NUTRITI
 ON-\nEmpower\n\nTai Chi 2/ Salad Bar\n@ 3:00PM\n*Registration Required*
X-WR-RELCALID:b2a52fccdb6daa4da5137f41a452a07b
X-WR-TIMEZONE:America/Chicago
BEGIN:VTIMEZONE
TZID:America/Chicago
BEGIN:STANDARD
TZNAME:CST
DTSTART:20251102T020000
TZOFFSETFROM:-0500
TZOFFSETTO:-0600
RDATE:20261101T020000
END:STANDARD
BEGIN:DAYLIGHT
TZNAME:CDT
DTSTART:20250309T020000
TZOFFSETFROM:-0600
TZOFFSETTO:-0500
RDATE:20260308T020000
RDATE:20270314T020000
END:DAYLIGHT
END:VTIMEZONE
BEGIN:VEVENT
UID:cc19377b-dc20-47fd-9b8d-b6d3758edcc7
DTSTAMP:20260423T204642Z
DESCRIPTION:TxSMP- Empower\nScam of the Month\n@2:00PM\n\nHEALTH & NUTRITIO
 N-\nEmpower\n\nTai Chi 2/ Salad Bar\n@ 3:00PM\n*Registration Required*
DTSTART;TZID=America/Chicago:20260129T140000
DTEND;TZID=America/Chicago:20260129T153000
LOCATION:325 Flagship Boulevard\, Montgomery\, AL 77316 US
SUMMARY:The Heritage: TxSMP\, Health & Nutrition
END:VEVENT
END:VCALENDAR
