BEGIN:VCALENDAR
VERSION:2.0
PRODID:-//empowercdc.org//NONSGML kigkonsult.se iCalcreator 2.30.10//
CALSCALE:GREGORIAN
METHOD:PUBLISH
UID:a80a81eb-3908-409b-95e5-d3e6d83508fb
X-WR-CALDESC:HEALTH &\n\nNUTRITION-\nEmpower\n\nTai Chi w/ Salad Bar\n@11:0
 0AM\n*Registration Required*
X-WR-RELCALID:dc57fd5aaa5df6e410e9991a5a8cb87c
X-WR-TIMEZONE:America/Chicago
BEGIN:VTIMEZONE
TZID:America/Chicago
BEGIN:STANDARD
TZNAME:CST
DTSTART:20251102T020000
TZOFFSETFROM:-0500
TZOFFSETTO:-0600
RDATE:20261101T020000
END:STANDARD
BEGIN:DAYLIGHT
TZNAME:CDT
DTSTART:20250309T020000
TZOFFSETFROM:-0600
TZOFFSETTO:-0500
RDATE:20260308T020000
RDATE:20270314T020000
END:DAYLIGHT
END:VTIMEZONE
BEGIN:VEVENT
UID:6e04ced8-f19d-4a93-b014-99ac479e7825
DTSTAMP:20260423T204404Z
DESCRIPTION:HEALTH &\n\nNUTRITION-\nEmpower\n\nTai Chi w/ Salad Bar\n@11:00
 AM\n*Registration Required*
DTSTART;TZID=America/Chicago:20260129T110000
DTEND;TZID=America/Chicago:20260129T120000
LOCATION:219 Flagship Blvd\, Montgomery\, TX 77316 US
SUMMARY:The Heritage 55+: Health & Nutrition
END:VEVENT
END:VCALENDAR
