BEGIN:VCALENDAR
VERSION:2.0
PRODID:-//empowercdc.org//NONSGML kigkonsult.se iCalcreator 2.30.10//
CALSCALE:GREGORIAN
METHOD:PUBLISH
UID:c301bc4f-f3f5-46fa-9b27-53049dca3efc
X-WR-CALDESC:EXERCISE-\nWellcare- CP\n\nHealth & Wellness\n@10:00AM
X-WR-RELCALID:2a17528d0fa621178a8fc20ca94452de
X-WR-TIMEZONE:America/Chicago
BEGIN:VTIMEZONE
TZID:America/Chicago
BEGIN:STANDARD
TZNAME:CST
DTSTART:20251102T020000
TZOFFSETFROM:-0500
TZOFFSETTO:-0600
RDATE:20261101T020000
END:STANDARD
BEGIN:DAYLIGHT
TZNAME:CDT
DTSTART:20250309T020000
TZOFFSETFROM:-0600
TZOFFSETTO:-0500
RDATE:20260308T020000
RDATE:20270314T020000
END:DAYLIGHT
END:VTIMEZONE
BEGIN:VEVENT
UID:93ef3e57-2a0a-4908-b62b-c45c7f665970
DTSTAMP:20260423T201805Z
DESCRIPTION:EXERCISE-\nWellcare- CP\n\nHealth & Wellness\n@10:00AM
DTSTART;TZID=America/Chicago:20260127T100000
DTEND;TZID=America/Chicago:20260127T110000
LOCATION:1830 Hollyoak Dr\, Houston\, AL 77084 US
SUMMARY:Hollyoak: Exercise
END:VEVENT
END:VCALENDAR
