BEGIN:VCALENDAR
VERSION:2.0
PRODID:-//empowercdc.org//NONSGML kigkonsult.se iCalcreator 2.30.10//
CALSCALE:GREGORIAN
METHOD:PUBLISH
UID:87f8de63-2805-48bd-9636-8e26ad3598d7
X-WR-CALDESC:ARTS & CRAFTS\nDIY SHIRTS\n@3PM
X-WR-RELCALID:5cb2d6ca1444d6f82f612db17ac4f189
X-WR-TIMEZONE:America/Chicago
BEGIN:VTIMEZONE
TZID:America/Chicago
BEGIN:STANDARD
TZNAME:CST
DTSTART:20251102T020000
TZOFFSETFROM:-0500
TZOFFSETTO:-0600
RDATE:20261101T020000
END:STANDARD
BEGIN:DAYLIGHT
TZNAME:CDT
DTSTART:20250309T020000
TZOFFSETFROM:-0600
TZOFFSETTO:-0500
RDATE:20260308T020000
RDATE:20270314T020000
END:DAYLIGHT
END:VTIMEZONE
BEGIN:VEVENT
UID:d25b8ffd-dd5e-4275-b330-057caa5300d1
DTSTAMP:20260423T203936Z
DESCRIPTION:ARTS & CRAFTS\nDIY SHIRTS\n@3PM
DTSTART;TZID=America/Chicago:20260126T150000
DTEND;TZID=America/Chicago:20260126T160000
LOCATION:1620 Spencer Hwy\, South Houston\, TX 77587 US
SUMMARY:Windsor Gardens: Arts & Crafts
END:VEVENT
END:VCALENDAR
