BEGIN:VCALENDAR
VERSION:2.0
PRODID:-//empowercdc.org//NONSGML kigkonsult.se iCalcreator 2.30.10//
CALSCALE:GREGORIAN
METHOD:PUBLISH
UID:1b647bd4-ec9d-41d6-8025-abb9c784d90d
X-WR-CALDESC:ARTS & CRAFTS-\nEmpower\n\nYear Savings Jar\n@ 3:30PM\n*Regist
 ration Required*
X-WR-RELCALID:c1728f4ac45be61f591a9dbdea3df871
X-WR-TIMEZONE:America/Chicago
BEGIN:VTIMEZONE
TZID:America/Chicago
BEGIN:STANDARD
TZNAME:CST
DTSTART:20251102T020000
TZOFFSETFROM:-0500
TZOFFSETTO:-0600
RDATE:20261101T020000
END:STANDARD
BEGIN:DAYLIGHT
TZNAME:CDT
DTSTART:20250309T020000
TZOFFSETFROM:-0600
TZOFFSETTO:-0500
RDATE:20260308T020000
RDATE:20270314T020000
END:DAYLIGHT
END:VTIMEZONE
BEGIN:VEVENT
UID:ae377bf1-7673-4ff3-a8f5-b964d3c019a8
DTSTAMP:20260423T204104Z
DESCRIPTION:ARTS & CRAFTS-\nEmpower\n\nYear Savings Jar\n@ 3:30PM\n*Registr
 ation Required*
DTSTART;TZID=America/Chicago:20260126T153000
DTEND;TZID=America/Chicago:20260126T163000
LOCATION:325 Flagship Boulevard\, Montgomery\, AL 77316 US
SUMMARY:The Heritage: Arts & Crafts
END:VEVENT
END:VCALENDAR
