BEGIN:VCALENDAR
VERSION:2.0
PRODID:-//empowercdc.org//NONSGML kigkonsult.se iCalcreator 2.30.10//
CALSCALE:GREGORIAN
METHOD:PUBLISH
UID:306827bf-9cc4-4de2-aab2-438336797be7
X-WR-CALDESC:ARTS & CRAFTS-\nEmpower\n\nYear Savings Jar\n11:00AM\n\n*Regis
 tration Required*
X-WR-RELCALID:1b11d577c33631153b8d7c308d487fb7
X-WR-TIMEZONE:America/Chicago
BEGIN:VTIMEZONE
TZID:America/Chicago
BEGIN:STANDARD
TZNAME:CST
DTSTART:20251102T020000
TZOFFSETFROM:-0500
TZOFFSETTO:-0600
RDATE:20261101T020000
END:STANDARD
BEGIN:DAYLIGHT
TZNAME:CDT
DTSTART:20250309T020000
TZOFFSETFROM:-0600
TZOFFSETTO:-0500
RDATE:20260308T020000
RDATE:20270314T020000
END:DAYLIGHT
END:VTIMEZONE
BEGIN:VEVENT
UID:8edce245-8382-408f-b4ab-210c172b39e7
DTSTAMP:20260423T204237Z
DESCRIPTION:ARTS & CRAFTS-\nEmpower\n\nYear Savings Jar\n11:00AM\n\n*Regist
 ration Required*
DTSTART;TZID=America/Chicago:20260126T110000
DTEND;TZID=America/Chicago:20260126T120000
LOCATION:219 Flagship Blvd\, Montgomery\, TX 77316 US
SUMMARY:The Heritage 55+: Arts & Crafts
END:VEVENT
END:VCALENDAR
