BEGIN:VCALENDAR
VERSION:2.0
PRODID:-//empowercdc.org//NONSGML kigkonsult.se iCalcreator 2.30.10//
CALSCALE:GREGORIAN
METHOD:PUBLISH
UID:ccf8567d-bacc-4ac8-b96b-fcef63bbab07
X-WR-CALDESC:ARTS & CRAFTS\nDIY TOWELS\n@11AM
X-WR-RELCALID:6c4ac2de47f1bfb66cb247443cff25e2
X-WR-TIMEZONE:America/Chicago
BEGIN:VTIMEZONE
TZID:America/Chicago
BEGIN:STANDARD
TZNAME:CST
DTSTART:20251102T020000
TZOFFSETFROM:-0500
TZOFFSETTO:-0600
RDATE:20261101T020000
END:STANDARD
BEGIN:DAYLIGHT
TZNAME:CDT
DTSTART:20250309T020000
TZOFFSETFROM:-0600
TZOFFSETTO:-0500
RDATE:20260308T020000
RDATE:20270314T020000
END:DAYLIGHT
END:VTIMEZONE
BEGIN:VEVENT
UID:116d0425-2567-4918-bbc4-461785e1cda7
DTSTAMP:20260423T204130Z
DESCRIPTION:ARTS & CRAFTS\nDIY TOWELS\n@11AM
DTSTART;TZID=America/Chicago:20260126T110000
DTEND;TZID=America/Chicago:20260126T120000
LOCATION:1717 FM359\, Richmond\, TX 77406 US
SUMMARY:Jones Creek: Arts & Crafts
END:VEVENT
END:VCALENDAR
