BEGIN:VCALENDAR
VERSION:2.0
PRODID:-//empowercdc.org//NONSGML kigkonsult.se iCalcreator 2.30.10//
CALSCALE:GREGORIAN
METHOD:PUBLISH
UID:523e65a7-7257-42bf-917b-2c1707abbdb4
X-WR-CALDESC:FINANCIAL PLANNING-Empower\nThe Price Is Right\n@ 3:30PM
X-WR-RELCALID:19bdc53959cfc0f80d3ee54d6d806f54
X-WR-TIMEZONE:America/Chicago
BEGIN:VTIMEZONE
TZID:America/Chicago
BEGIN:STANDARD
TZNAME:CST
DTSTART:20251102T020000
TZOFFSETFROM:-0500
TZOFFSETTO:-0600
RDATE:20261101T020000
END:STANDARD
BEGIN:DAYLIGHT
TZNAME:CDT
DTSTART:20250309T020000
TZOFFSETFROM:-0600
TZOFFSETTO:-0500
RDATE:20260308T020000
RDATE:20270314T020000
END:DAYLIGHT
END:VTIMEZONE
BEGIN:VEVENT
UID:6e2cb58f-38e4-4ead-a5c7-0991bbfab1e7
DTSTAMP:20260423T204130Z
DESCRIPTION:FINANCIAL PLANNING-Empower\nThe Price Is Right\n@ 3:30PM
DTSTART;TZID=America/Chicago:20260122T153000
DTEND;TZID=America/Chicago:20260122T163000
LOCATION:325 Flagship Boulevard\, Montgomery\, AL 77316 US
SUMMARY:The Heritage: Financial Planning
END:VEVENT
END:VCALENDAR
