BEGIN:VCALENDAR
VERSION:2.0
PRODID:-//empowercdc.org//NONSGML kigkonsult.se iCalcreator 2.30.10//
CALSCALE:GREGORIAN
METHOD:PUBLISH
UID:cc59f0be-5ad6-4891-a8e9-5e970cdd0a95
X-WR-CALDESC:SOCIAL-\nPeacock Life- CP\n\nCookies and Cocoa\n@1:30PM
X-WR-RELCALID:67894fa17017508dbece7b4b645862c8
X-WR-TIMEZONE:America/Chicago
BEGIN:VTIMEZONE
TZID:America/Chicago
BEGIN:STANDARD
TZNAME:CST
DTSTART:20251102T020000
TZOFFSETFROM:-0500
TZOFFSETTO:-0600
RDATE:20261101T020000
END:STANDARD
BEGIN:DAYLIGHT
TZNAME:CDT
DTSTART:20250309T020000
TZOFFSETFROM:-0600
TZOFFSETTO:-0500
RDATE:20260308T020000
RDATE:20270314T020000
END:DAYLIGHT
END:VTIMEZONE
BEGIN:VEVENT
UID:1fe3c9e9-da4f-4372-8d1e-0cab37ea3da6
DTSTAMP:20260423T204244Z
DESCRIPTION:SOCIAL-\nPeacock Life- CP\n\nCookies and Cocoa\n@1:30PM
DTSTART;TZID=America/Chicago:20260120T133000
DTEND;TZID=America/Chicago:20260120T150000
LOCATION:325 Flagship Boulevard\, Montgomery\, AL 77316 US
SUMMARY:The Heritage: Cookies and Cocoa
END:VEVENT
END:VCALENDAR
