BEGIN:VCALENDAR
VERSION:2.0
PRODID:-//empowercdc.org//NONSGML kigkonsult.se iCalcreator 2.30.10//
CALSCALE:GREGORIAN
METHOD:PUBLISH
UID:0d6421e7-536a-49b9-b77c-e89e74856759
X-WR-CALDESC:SOCIAL-\nPeacock Life- CP\n\nCookies and Cocoa\n@11:00AM
X-WR-RELCALID:c280af2c48f831fcfb3dedd0b4d56600
X-WR-TIMEZONE:America/Chicago
BEGIN:VTIMEZONE
TZID:America/Chicago
BEGIN:STANDARD
TZNAME:CST
DTSTART:20251102T020000
TZOFFSETFROM:-0500
TZOFFSETTO:-0600
RDATE:20261101T020000
END:STANDARD
BEGIN:DAYLIGHT
TZNAME:CDT
DTSTART:20250309T020000
TZOFFSETFROM:-0600
TZOFFSETTO:-0500
RDATE:20260308T020000
RDATE:20270314T020000
END:DAYLIGHT
END:VTIMEZONE
BEGIN:VEVENT
UID:50418e93-a1f5-487e-bb36-40a7721932f3
DTSTAMP:20260423T204400Z
DESCRIPTION:SOCIAL-\nPeacock Life- CP\n\nCookies and Cocoa\n@11:00AM
DTSTART;TZID=America/Chicago:20260120T110000
DTEND;TZID=America/Chicago:20260120T130000
LOCATION:219 Flagship Blvd\, Montgomery\, TX 77316 US
SUMMARY:The Heritage 55+: Cookies and Cocoa
END:VEVENT
END:VCALENDAR
