BEGIN:VCALENDAR
VERSION:2.0
PRODID:-//empowercdc.org//NONSGML kigkonsult.se iCalcreator 2.30.10//
CALSCALE:GREGORIAN
METHOD:PUBLISH
UID:67353d4c-b501-4dd5-b3de-cf297f46c210
X-WR-CALDESC:EXERCISE- Empower\nAdaptive Fitness\n@12:00PM
X-WR-RELCALID:f094d1c032d30bb1e15bd6af6bb843a3
X-WR-TIMEZONE:America/Chicago
BEGIN:VTIMEZONE
TZID:America/Chicago
BEGIN:STANDARD
TZNAME:CST
DTSTART:20251102T020000
TZOFFSETFROM:-0500
TZOFFSETTO:-0600
RDATE:20261101T020000
END:STANDARD
BEGIN:DAYLIGHT
TZNAME:CDT
DTSTART:20250309T020000
TZOFFSETFROM:-0600
TZOFFSETTO:-0500
RDATE:20260308T020000
RDATE:20270314T020000
END:DAYLIGHT
END:VTIMEZONE
BEGIN:VEVENT
UID:4060cbe9-7968-4457-b459-f1fe2973cbbe
DTSTAMP:20260423T203712Z
DESCRIPTION:EXERCISE- Empower\nAdaptive Fitness\n@12:00PM
DTSTART;TZID=America/Chicago:20260120T120000
DTEND;TZID=America/Chicago:20260120T130000
LOCATION:1830 Hollyoak Dr\, Houston\, AL 77084 US
SUMMARY:Hollyoak: Exercise
END:VEVENT
END:VCALENDAR
