BEGIN:VCALENDAR
VERSION:2.0
PRODID:-//empowercdc.org//NONSGML kigkonsult.se iCalcreator 2.30.10//
CALSCALE:GREGORIAN
METHOD:PUBLISH
UID:c46abda5-569b-422d-b354-4a9d5f241de9
X-WR-CALDESC:TX SMP\nSCAM OF THE MONTH\n@10:30AM\n\nSOCIAL\nGROCERY BINGO\n
 @11AM
X-WR-RELCALID:0e28206cfd97afde7d0c130f8c2206dd
X-WR-TIMEZONE:America/Chicago
BEGIN:VTIMEZONE
TZID:America/Chicago
BEGIN:STANDARD
TZNAME:CST
DTSTART:20251102T020000
TZOFFSETFROM:-0500
TZOFFSETTO:-0600
RDATE:20261101T020000
END:STANDARD
BEGIN:DAYLIGHT
TZNAME:CDT
DTSTART:20250309T020000
TZOFFSETFROM:-0600
TZOFFSETTO:-0500
RDATE:20260308T020000
RDATE:20270314T020000
END:DAYLIGHT
END:VTIMEZONE
BEGIN:VEVENT
UID:8ce68d07-a3cf-4c68-89e0-a6dff996ce67
DTSTAMP:20260423T204244Z
DESCRIPTION:TX SMP\nSCAM OF THE MONTH\n@10:30AM\n\nSOCIAL\nGROCERY BINGO\n@
 11AM
DTSTART;TZID=America/Chicago:20260119T103000
DTEND;TZID=America/Chicago:20260119T120000
LOCATION:1717 FM359\, Richmond\, TX 77406 US
SUMMARY:Jones Creek: TxSMP\, Grocery Bingo
END:VEVENT
END:VCALENDAR
