BEGIN:VCALENDAR
VERSION:2.0
PRODID:-//empowercdc.org//NONSGML kigkonsult.se iCalcreator 2.30.10//
CALSCALE:GREGORIAN
METHOD:PUBLISH
UID:0aacf139-725f-461f-9b53-f5e6523b84b7
X-WR-CALDESC:FOOD BANK- MCFB\nMonthly Food Boxes\n@11:00AM\n*Registration R
 equired*
X-WR-RELCALID:d7ca7580bb7f678af93a5732092dcc10
X-WR-TIMEZONE:America/Chicago
BEGIN:VTIMEZONE
TZID:America/Chicago
BEGIN:STANDARD
TZNAME:CST
DTSTART:20251102T020000
TZOFFSETFROM:-0500
TZOFFSETTO:-0600
RDATE:20261101T020000
END:STANDARD
BEGIN:DAYLIGHT
TZNAME:CDT
DTSTART:20250309T020000
TZOFFSETFROM:-0600
TZOFFSETTO:-0500
RDATE:20260308T020000
RDATE:20270314T020000
END:DAYLIGHT
END:VTIMEZONE
BEGIN:VEVENT
UID:06ffafae-8ae3-4753-b51d-0d745e016951
DTSTAMP:20260423T204521Z
DESCRIPTION:FOOD BANK- MCFB\nMonthly Food Boxes\n@11:00AM\n*Registration Re
 quired*
DTSTART;TZID=America/Chicago:20260115T110000
DTEND;TZID=America/Chicago:20260115T120000
LOCATION:325 Flagship Boulevard\, Montgomery\, AL 77316 US
SUMMARY:The Heritage: Food Bank
END:VEVENT
END:VCALENDAR
