BEGIN:VCALENDAR
VERSION:2.0
PRODID:-//empowercdc.org//NONSGML kigkonsult.se iCalcreator 2.30.10//
CALSCALE:GREGORIAN
METHOD:PUBLISH
UID:d9c1169d-1b60-4cf2-9e22-ff78e4b76c7c
X-WR-CALDESC:FOOD BANK- MCFB\nMonthly Food Boxes\n@11:00AM\n*Registration R
 equired*
X-WR-RELCALID:e187bf153ac28a6dd5995369925f6d7f
X-WR-TIMEZONE:America/Chicago
BEGIN:VTIMEZONE
TZID:America/Chicago
BEGIN:STANDARD
TZNAME:CST
DTSTART:20251102T020000
TZOFFSETFROM:-0500
TZOFFSETTO:-0600
RDATE:20261101T020000
END:STANDARD
BEGIN:DAYLIGHT
TZNAME:CDT
DTSTART:20250309T020000
TZOFFSETFROM:-0600
TZOFFSETTO:-0500
RDATE:20260308T020000
RDATE:20270314T020000
END:DAYLIGHT
END:VTIMEZONE
BEGIN:VEVENT
UID:00ae90cb-023e-40aa-8ca1-9612fa7e13e1
DTSTAMP:20260423T204647Z
DESCRIPTION:FOOD BANK- MCFB\nMonthly Food Boxes\n@11:00AM\n*Registration Re
 quired*
DTSTART;TZID=America/Chicago:20260115T110000
DTEND;TZID=America/Chicago:20260115T120000
LOCATION:219 Flagship Blvd\, Montgomery\, TX 77316 US
SUMMARY:The Heritage 55+: Food Bank
END:VEVENT
END:VCALENDAR
