BEGIN:VCALENDAR
VERSION:2.0
PRODID:-//empowercdc.org//NONSGML kigkonsult.se iCalcreator 2.30.10//
CALSCALE:GREGORIAN
METHOD:PUBLISH
UID:84d89a60-2042-419d-9433-09bd9d8dfe3e
X-WR-CALDESC:EXERCISE\nCHAIR EXERCISE\n@10:00AM
X-WR-RELCALID:a784dbcb98e85652d722a052cb1fef87
X-WR-TIMEZONE:America/Chicago
BEGIN:VTIMEZONE
TZID:America/Chicago
BEGIN:STANDARD
TZNAME:CST
DTSTART:20251102T020000
TZOFFSETFROM:-0500
TZOFFSETTO:-0600
RDATE:20261101T020000
END:STANDARD
BEGIN:DAYLIGHT
TZNAME:CDT
DTSTART:20250309T020000
TZOFFSETFROM:-0600
TZOFFSETTO:-0500
RDATE:20260308T020000
RDATE:20270314T020000
END:DAYLIGHT
END:VTIMEZONE
BEGIN:VEVENT
UID:066df95c-2497-4966-8bce-39ff36e344a0
DTSTAMP:20260423T203929Z
DESCRIPTION:EXERCISE\nCHAIR EXERCISE\n@10:00AM
DTSTART;TZID=America/Chicago:20260113T100000
DTEND;TZID=America/Chicago:20260113T110000
LOCATION:1717 FM359\, Richmond\, TX 77406 US
SUMMARY:Jones Creek: Chair Exercise
END:VEVENT
END:VCALENDAR
